BEGIN:VCALENDAR
VERSION:2.0
PRODID:-//The School of Volunteer Management - ECPv4.6.23//NONSGML v1.0//EN
CALSCALE:GREGORIAN
METHOD:PUBLISH
X-WR-CALNAME:The School of Volunteer Management
X-ORIGINAL-URL:http://www.svm.edu.au
X-WR-CALDESC:Events for The School of Volunteer Management
BEGIN:VEVENT
DTSTART;TZID=UTC+10:20150325T093000
DTEND;TZID=UTC+10:20150325T123000
DTSTAMP:20200301T214417
CREATED:20150310T235525Z
LAST-MODIFIED:20150310T235728Z
UID:2027-1427275800-1427286600@www.svm.edu.au
SUMMARY:The Art of Teaching Adults
DESCRIPTION:This workshop is an introduction to facilitation for new and existing facilitators (Volunteer managers/ managers who facilitate groups of Volunteers and or staff).\nFee: $70 + GST \n
URL:http://www.svm.edu.au/event/the-art-of-teaching-adults-3/
ORGANIZER;CN="The%20School%20of%20Volunteer%20Management":MAILTO:info@svm.edu.au
END:VEVENT
END:VCALENDAR