BEGIN:VCALENDAR
VERSION:2.0
PRODID:-//The School of Volunteer Management - ECPv4.6.23//NONSGML v1.0//EN
CALSCALE:GREGORIAN
METHOD:PUBLISH
X-WR-CALNAME:The School of Volunteer Management
X-ORIGINAL-URL:http://www.svm.edu.au
X-WR-CALDESC:Events for The School of Volunteer Management
BEGIN:VEVENT
DTSTART;TZID=UTC+10:20150618T093000
DTEND;TZID=UTC+10:20150618T130000
DTSTAMP:20200301T223705
CREATED:20141216T014814Z
LAST-MODIFIED:20141216T014814Z
UID:1932-1434619800-1434632400@www.svm.edu.au
SUMMARY:Speak Up! Speak Out! 2 Workshop
DESCRIPTION:This public speaking workshop builds on the skills gained from Speak Up! Speak Out! 1 Workshop. It enables participant’s to further develop their public speaking skills and covers Mind Mapping and how to memorise speeches. \nPrior attendance at a SUSO 1 Workshop is a pre-requisite for attending this workshop. The SUSO 2 Workshop is restricted to 15 participants\, allowing more time for practise and feedback.  \nFee: $80 + GST \n
URL:http://www.svm.edu.au/event/speak-up-speak-out-2-workshop/
CATEGORIES:Short courses,Workshop
ORGANIZER;CN="The%20School%20of%20Volunteer%20Management":MAILTO:info@svm.edu.au
END:VEVENT
END:VCALENDAR