BEGIN:VCALENDAR
VERSION:2.0
PRODID:-//The School of Volunteer Management - ECPv4.6.23//NONSGML v1.0//EN
CALSCALE:GREGORIAN
METHOD:PUBLISH
X-WR-CALNAME:The School of Volunteer Management
X-ORIGINAL-URL:http://www.svm.edu.au
X-WR-CALDESC:Events for The School of Volunteer Management
BEGIN:VEVENT
DTSTART;TZID=UTC+10:20150904T103000
DTEND;TZID=UTC+10:20150904T123000
DTSTAMP:20200301T222031
CREATED:20150611T015927Z
LAST-MODIFIED:20150617T041621Z
UID:2111-1441362600-1441369800@www.svm.edu.au
SUMMARY:Bridge To Volunteering - 4 September 2015
DESCRIPTION:This workshop is an introduction to volunteering.\nTopics included: \n\nWhat is volunteering and what is a volunteer?\nVolunteering opportunities\nThe benefits of volunteering\nThe rights and responsibilities of volunteers and organisations that engage volunteers\nWhat a person should consider when looking for a volunteer role\nHow to find a suitable volunteer role\n\nBridge to Volunteering is open to:\n\nPeople who have never volunteered before\nPeople who have done some volunteering but want a more comprehensive introduction to volunteering in general\nPeople who are new to Australia and have not volunteered in Astralia\n\nAttending Bridge to Volunteering is not a prerequisite for using The Centre’s Volunteer Referral Service (VRS) to find a volunteer role. If you have volunteered before and are looking for a new role\, please contact the VRS directly on 02 9261 3600 for an interview. \n
URL:http://www.svm.edu.au/event/bridge-to-volunteering-4-september-2015/
LOCATION:The Centre For Volunteering\, Level 3\, 40 Gloucester St\, The Rocks\, NSW\, 2000\, Australia
CATEGORIES:Bridge To Volunteering
END:VEVENT
END:VCALENDAR