BEGIN:VCALENDAR
VERSION:2.0
PRODID:-//The School of Volunteer Management - ECPv4.6.23//NONSGML v1.0//EN
CALSCALE:GREGORIAN
METHOD:PUBLISH
X-WR-CALNAME:The School of Volunteer Management
X-ORIGINAL-URL:http://www.svm.edu.au
X-WR-CALDESC:Events for The School of Volunteer Management
BEGIN:VEVENT
DTSTART;TZID=UTC+10:20150327T103000
DTEND;TZID=UTC+10:20150327T123000
DTSTAMP:20200301T220629
CREATED:20141209T234122Z
LAST-MODIFIED:20150216T063741Z
UID:1907-1427452200-1427459400@www.svm.edu.au
SUMMARY:Bridge To Volunteering - 27 March 2015
DESCRIPTION:This workshop is an introduction to volunteering.\nTopics included: \n\nWhat is volunteering and what is a volunteer?\nVolunteering opportunities\nThe benefits of volunteering\nThe rights and responsibilities of volunteers and organisations that engage volunteers\nWhat a person should consider when looking for a volunteer role\nHow to find a suitable volunteer role\n\nBridge to Volunteering is open to:\n\nPeople who have never volunteered before\nPeople who have done some volunteering but want a more comprehensive introduction to volunteering in general\nPeople who are new to Australia and have not volunteered in Australia\n\nAttending Bridge to Volunteering is not a prerequisite for using The Centre’s Volunteer Referral Service (VRS) to find a volunteer role. If you have volunteered before and are looking for a new role\, please contact the VRS directly for an interview. \n
URL:http://www.svm.edu.au/event/bridge-to-volunteering-27-march-2015/
LOCATION:The Centre For Volunteering\, 40 Gloucester St\, The Rocks\, NSW\, 2000\, Australia
CATEGORIES:Bridge To Volunteering
END:VEVENT
END:VCALENDAR